BEGIN:VCALENDAR
VERSION:2.0
PRODID:-//川井弘子公式サイト ｜ Hiroko Kawai - Soprano, Teacher &amp; Author - ECPv6.15.20//NONSGML v1.0//EN
CALSCALE:GREGORIAN
METHOD:PUBLISH
X-ORIGINAL-URL:http://hirokokawai.com
X-WR-CALDESC:川井弘子公式サイト ｜ Hiroko Kawai - Soprano, Teacher &amp; Author のイベント
REFRESH-INTERVAL;VALUE=DURATION:PT1H
X-Robots-Tag:noindex
X-PUBLISHED-TTL:PT1H
BEGIN:VTIMEZONE
TZID:Asia/Tokyo
BEGIN:STANDARD
TZOFFSETFROM:+0900
TZOFFSETTO:+0900
TZNAME:JST
DTSTART:20160101T000000
END:STANDARD
END:VTIMEZONE
BEGIN:VEVENT
DTSTART;TZID=Asia/Tokyo:20181030T101500
DTEND;TZID=Asia/Tokyo:20181030T171500
DTSTAMP:20260425T131152
CREATED:20191001T132029Z
LAST-MODIFIED:20191001T132029Z
UID:2445-1540894500-1540919700@hirokokawai.com
SUMMARY:【東京】ボディマッピング講座ＡＥ1日間コース
DESCRIPTION:ＡＥ１日間コース \n2018年10月30日（火）10:15-17:15\n会場：アスピア・Bスタジオ（京王新線・幡ヶ谷駅から徒歩２分） \n受講料：20\,000円　定員：10名\nお問合せ・お申込み：info@hirokokawai.com \n※全時間の参加が必要です\n対象：すべての楽器に対応します \n  \n\n「音楽家ならだれでも知っておきたい『からだ』のこと」（誠信書房）\nＢ･コナブル著　音楽書のベストセラー ￥2\,100\n講座は実物大の骨モデルを使っての説明が主ですが、このテキストの使い方、お教えします。当日お持ち下さい。 \n  \nお申込みはこちら♪\n 
URL:http://hirokokawai.com/event/1990-2-2
LOCATION:アスピア\, 東京都渋谷区幡ヶ谷2-14-3\, 151-0072
CATEGORIES:ボディ・マッピング講座
ATTACH;FMTTYPE=image/jpeg:http://hirokokawai.com/wp/wp-content/uploads/2019/09/IMG_3791.jpg
END:VEVENT
BEGIN:VEVENT
DTSTART;TZID=Asia/Tokyo:20181021T103000
DTEND;TZID=Asia/Tokyo:20181021T173000
DTSTAMP:20260425T131152
CREATED:20180819T092821Z
LAST-MODIFIED:20180819T093657Z
UID:1940-1540117800-1540143000@hirokokawai.com
SUMMARY:【大阪】ボディ・マッピング講座　AE２日間コース
DESCRIPTION:AE2日間コース：\n2018年10月21日(日)10:30-17:30\n会場：ムジークシューレ大阪・ZG室（大阪市中央区内本町） \n受講料：20\,000円　定員：10名\nお問合せ・お申込み：info@hirokokawai.com \n※全時間の参加が必要です\n対象：すべての楽器に対応します \n  \n\n「音楽家ならだれでも知っておきたい『からだ』のこと」（誠信書房）\nＢ･コナブル著　音楽書のベストセラー \2\,100\n講座は実物大の骨モデルを使っての説明が主ですが、このテキストの使い方、お教えします。当日お持ち下さい。 \n  \n\n\n\nAndover Educator コース 時間割\n\n\n1時間目\n演奏する為に必要な「からだ」の基礎。\n必要な「注意力」とは？\n\n\n2時間目\nからだの「中芯」とバランスの起こる場所のマッピング。\n立つ時、座る時。\n\n\n3時間目\n腕・手のマッピング。\n腕構造がこんなにも呼吸に関係している？\n\n\n4時間目\n呼吸のマッピング。\n吸の構造と動き。横隔膜だけでなくからだ全体は？脊椎は？\n\n\n５時間目\n脚のマッピング。\n歌う・楽器を演奏する時、脚に体重はどのように伝わるのか？\n\n\n６時間目\n実際的応用。ひとりずつ演奏しての、グループレッスン。\n（聴講のみも可）
URL:http://hirokokawai.com/event/bmosaka20181021
LOCATION:ムジークシューレ大阪\, 大阪府大阪市中央区内本町2-3-11 内本町グリーンビル５Ｆ\, 5400026
CATEGORIES:ボディ・マッピング講座
ATTACH;FMTTYPE=image/jpeg:http://hirokokawai.com/wp/wp-content/uploads/2018/08/IMG_3580.jpg
ORGANIZER;CN="%E3%83%9C%E3%83%87%E3%82%A3%E3%83%BB%E3%83%9E%E3%83%83%E3%83%94%E3%83%B3%E3%82%B0%E8%AC%9B%E5%BA%A7":MAILTO:info@hirokokawai.com
END:VEVENT
BEGIN:VEVENT
DTSTART;TZID=Asia/Tokyo:20180513T124500
DTEND;TZID=Asia/Tokyo:20180513T164500
DTSTAMP:20260425T131152
CREATED:20191001T131557Z
LAST-MODIFIED:20191001T131557Z
UID:2441-1526215500-1526229900@hirokokawai.com
SUMMARY:【広島】ボディマッピング講座ＡＥ２日間コース
DESCRIPTION:ＡＥ２日間コース \n2018年5月13日(日)12:45-16:45\n会場：ショコラミュージック・A室（JR広島駅より徒歩3分） \n受講料：20\,000円　定員：10名\nお問合せ・お申込み：info@hirokokawai.com \n※全時間の参加が必要です\n対象：すべての楽器に対応します \n  \n\n「音楽家ならだれでも知っておきたい『からだ』のこと」（誠信書房）\nＢ･コナブル著　音楽書のベストセラー ￥2\,100\n講座は実物大の骨モデルを使っての説明が主ですが、このテキストの使い方、お教えします。当日お持ち下さい。 \n  \nお申込みはこちら♪\n 
URL:http://hirokokawai.com/event/1990-3
LOCATION:ショコラミュージック\, 広島県広島市南区猿猴橋町5-14　2階\, 732-0823
CATEGORIES:ボディ・マッピング講座
ATTACH;FMTTYPE=image/jpeg:http://hirokokawai.com/wp/wp-content/uploads/2019/09/IMG_3791.jpg
END:VEVENT
BEGIN:VEVENT
DTSTART;TZID=Asia/Tokyo:20180310T124500
DTEND;TZID=Asia/Tokyo:20180310T154500
DTSTAMP:20260425T131152
CREATED:20190923T042630Z
LAST-MODIFIED:20191001T130623Z
UID:1990-1520685900-1520696700@hirokokawai.com
SUMMARY:【広島】ボディマッピング講座ＡＥ２日間コース
DESCRIPTION:ＡＥ２日間コース \n2018年10月21日(日)10:30-17:30\n会場：ショコラミュージック・A室（JR広島駅より徒歩3分） \n受講料：20\,000円　定員：10名\nお問合せ・お申込み：info@hirokokawai.com \n※全時間の参加が必要です\n対象：すべての楽器に対応します \n  \n\n「音楽家ならだれでも知っておきたい『からだ』のこと」（誠信書房）\nＢ･コナブル著　音楽書のベストセラー ￥2\,100\n講座は実物大の骨モデルを使っての説明が主ですが、このテキストの使い方、お教えします。当日お持ち下さい。 \n  \nお申込みはこちら♪\n 
URL:http://hirokokawai.com/event/1990
LOCATION:ショコラミュージック\, 広島県広島市南区猿猴橋町5-14　2階\, 732-0823
CATEGORIES:ボディ・マッピング講座
ATTACH;FMTTYPE=image/jpeg:http://hirokokawai.com/wp/wp-content/uploads/2019/09/IMG_3791.jpg
END:VEVENT
BEGIN:VEVENT
DTSTART;TZID=Asia/Tokyo:20170729T100000
DTEND;TZID=Asia/Tokyo:20170729T173000
DTSTAMP:20260425T131152
CREATED:20191001T130946Z
LAST-MODIFIED:20191001T132113Z
UID:2438-1501322400-1501349400@hirokokawai.com
SUMMARY:【倉敷】ボディマッピング講座ＡＥ1日間コース
DESCRIPTION:ＡＥ１日間コース \n2017年7月29日（日）10：00-17：30\n会場：倉敷市芸文館・第2練習室 \n受講料：20\,000円　定員：10名\nお問合せ・お申込み：info@hirokokawai.com \n※全時間の参加が必要です\n対象：すべての楽器に対応します \n  \n\n「音楽家ならだれでも知っておきたい『からだ』のこと」（誠信書房）\nＢ･コナブル著　音楽書のベストセラー ￥2\,100\n講座は実物大の骨モデルを使っての説明が主ですが、このテキストの使い方、お教えします。当日お持ち下さい。 \n  \nお申込みはこちら♪\n 
URL:http://hirokokawai.com/event/1990-2
LOCATION:倉敷市芸文館\, 岡山県倉敷市中央1-18-1\, 710-0046
CATEGORIES:ボディ・マッピング講座
ATTACH;FMTTYPE=image/jpeg:http://hirokokawai.com/wp/wp-content/uploads/2019/09/IMG_3791.jpg
END:VEVENT
END:VCALENDAR